BEGIN:VCALENDAR
VERSION:2.0
PRODID:-//Nahant Public Library - ECPv6.15.20//NONSGML v1.0//EN
CALSCALE:GREGORIAN
METHOD:PUBLISH
X-WR-CALNAME:Nahant Public Library
X-ORIGINAL-URL:https://nahantlibrary.org
X-WR-CALDESC:Events for Nahant Public Library
REFRESH-INTERVAL;VALUE=DURATION:PT1H
X-Robots-Tag:noindex
X-PUBLISHED-TTL:PT1H
BEGIN:VTIMEZONE
TZID:America/New_York
BEGIN:DAYLIGHT
TZOFFSETFROM:-0500
TZOFFSETTO:-0400
TZNAME:EDT
DTSTART:20250309T070000
END:DAYLIGHT
BEGIN:STANDARD
TZOFFSETFROM:-0400
TZOFFSETTO:-0500
TZNAME:EST
DTSTART:20251102T060000
END:STANDARD
BEGIN:DAYLIGHT
TZOFFSETFROM:-0500
TZOFFSETTO:-0400
TZNAME:EDT
DTSTART:20260308T070000
END:DAYLIGHT
BEGIN:STANDARD
TZOFFSETFROM:-0400
TZOFFSETTO:-0500
TZNAME:EST
DTSTART:20261101T060000
END:STANDARD
BEGIN:DAYLIGHT
TZOFFSETFROM:-0500
TZOFFSETTO:-0400
TZNAME:EDT
DTSTART:20270314T070000
END:DAYLIGHT
BEGIN:STANDARD
TZOFFSETFROM:-0400
TZOFFSETTO:-0500
TZNAME:EST
DTSTART:20271107T060000
END:STANDARD
END:VTIMEZONE
BEGIN:VEVENT
DTSTART;TZID=America/New_York:20260421T103000
DTEND;TZID=America/New_York:20260421T113000
DTSTAMP:20260421T135606
CREATED:20260312T190516Z
LAST-MODIFIED:20260312T190516Z
UID:10006556-1776767400-1776771000@nahantlibrary.org
SUMMARY:April Vacation: Greenhouse Children's Yoga -Registration Required
DESCRIPTION:  \nGreenhouse Children’s Yoga \nThemed and includes props\, games\, dancing\, yoga poses and a short meditation at the end. \nTuesday 4/21\, 10:30-11:15 \nSpots are limited so reserve your spot today by calling 781-581-0306
URL:https://nahantlibrary.org/event/april-vacation-greenhouse-childrens-yoga-registration-required/
LOCATION:MA
END:VEVENT
END:VCALENDAR